BEGIN:VCALENDAR
VERSION:2.0
PRODID:-//Sabre//Sabre VObject 4.5.8//EN
CALSCALE:GREGORIAN
BEGIN:VEVENT
UID:sabre-vobject-4a0a076f-f324-4bdc-b874-390484432463
DTSTAMP:20260422T114851Z
SUMMARY:Maiandacht für Kinder und Kleinkinder im Pfarrheim
DESCRIPTION:https://pg-reichertshofen-langenbruck.de/maiandacht-fuer-kinder
 -und-kleinkinder-im-pfarrheim_id44728
DTSTART;TZID=Europe/Berlin:20260503T163000
DURATION:PT30M
LOCATION:Kirche St. Johannes Baptist Pörnbach\, Kirchplatz 6\, 85309 Pörn
 bach
END:VEVENT
END:VCALENDAR
