BEGIN:VCALENDAR
VERSION:2.0
PRODID:-//Sabre//Sabre VObject 4.5.8//EN
CALSCALE:GREGORIAN
BEGIN:VEVENT
UID:sabre-vobject-deadaad8-66f6-435f-8989-d8db2a7692ab
DTSTAMP:20260422T113619Z
SUMMARY:Kindergottesdienst im Pfarrsaal
DESCRIPTION:https://pg-reichertshofen-langenbruck.de/kindergottesdienst-im-
 pfarrsaal_id44725
DTSTART;TZID=Europe/Berlin:20260503T101500
DURATION:PT30M
LOCATION:Kirche St. Margaretha Reichertshofen\, Marktstraße 5\, 85084 Reic
 hertshofen
END:VEVENT
END:VCALENDAR
