BEGIN:VCALENDAR
VERSION:2.0
PRODID:-//Sabre//Sabre VObject 4.5.8//EN
CALSCALE:GREGORIAN
BEGIN:VEVENT
UID:sabre-vobject-46c58b04-2dd6-4b70-a2ac-7bf352c97337
DTSTAMP:20260422T113224Z
SUMMARY:Gottesdienst
DESCRIPTION:https://pg-reichertshofen-langenbruck.de/gottesdienst_id44724
DTSTART;TZID=Europe/Berlin:20260503T101500
DURATION:PT30M
LOCATION:Kirche St. Margaretha Reichertshofen\, Marktstraße 5\, 85084 Reic
 hertshofen
END:VEVENT
END:VCALENDAR
