BEGIN:VCALENDAR
VERSION:2.0
PRODID:-//Sabre//Sabre VObject 4.5.8//EN
CALSCALE:GREGORIAN
BEGIN:VEVENT
UID:sabre-vobject-a98fd4f5-64f8-4772-9753-cd16ebe98669
DTSTAMP:20260422T113619Z
SUMMARY:Rosenkranz in der Marienkapelle
DESCRIPTION:https://pg-reichertshofen-langenbruck.de/rosenkranz-in-der-mari
 enkapelle_id44723
DTSTART;TZID=Europe/Berlin:20260502T160000
DURATION:PT30M
LOCATION:Kirche St. Margaretha Reichertshofen\, Marktstraße 5\, 85084 Reic
 hertshofen
END:VEVENT
END:VCALENDAR
