BEGIN:VCALENDAR
VERSION:2.0
PRODID:-//Sabre//Sabre VObject 4.5.8//EN
CALSCALE:GREGORIAN
BEGIN:VEVENT
UID:sabre-vobject-2d9d7843-61f5-4a82-9e4f-47b1b97e847f
DTSTAMP:20260422T113218Z
SUMMARY:In Starkertshofen: Heilige Messe
DESCRIPTION:https://pg-reichertshofen-langenbruck.de/in-starkertshofen-heil
 ige-messe_id44718
DTSTART;TZID=Europe/Berlin:20260427T184500
DURATION:PT30M
LOCATION:Filialkirche St. Jakobus Starkertshofen\, Starkertshofen 24\, 8508
 4 Reichertshofen
END:VEVENT
END:VCALENDAR
