BEGIN:VCALENDAR
VERSION:2.0
PRODID:-//Sabre//Sabre VObject 4.5.8//EN
CALSCALE:GREGORIAN
BEGIN:VEVENT
UID:sabre-vobject-f3a27271-f244-4fee-8e88-0f481556d39e
DTSTAMP:20260424T082725Z
SUMMARY:Heilige Messe
DESCRIPTION:https://pg-reichertshofen-langenbruck.de/heilige-messe_id44717
DTSTART;TZID=Europe/Berlin:20260430T180000
DURATION:PT30M
LOCATION:Kirche St. Johannes Baptist Pörnbach\, Kirchplatz 6\, 85309 Pörn
 bach
END:VEVENT
END:VCALENDAR
