BEGIN:VCALENDAR
VERSION:2.0
PRODID:-//Sabre//Sabre VObject 4.5.8//EN
CALSCALE:GREGORIAN
BEGIN:VEVENT
UID:sabre-vobject-d21a90e0-dc75-431c-8a9f-a9c43740982b
DTSTAMP:20260424T082539Z
SUMMARY:Rosenkranz
DESCRIPTION:https://pg-reichertshofen-langenbruck.de/rosenkranz_id44716
DTSTART;TZID=Europe/Berlin:20260430T173000
DURATION:PT30M
LOCATION:Kirche St. Johannes Baptist Pörnbach\, Kirchplatz 6\, 85309 Pörn
 bach
END:VEVENT
END:VCALENDAR
