BEGIN:VCALENDAR
VERSION:2.0
PRODID:-//Sabre//Sabre VObject 4.5.8//EN
CALSCALE:GREGORIAN
BEGIN:VEVENT
UID:sabre-vobject-caa419e2-2406-45a2-962d-a7835393b501
DTSTAMP:20260422T114605Z
SUMMARY:Erste feierliche Maiandacht musik. gest. v. Kirchenchor
DESCRIPTION:https://pg-reichertshofen-langenbruck.de/erste-feierliche-maian
 dacht-musik-gest-v-kirchenchor_id44711
DTSTART;TZID=Europe/Berlin:20260501T180000
DURATION:PT30M
LOCATION:Kirche St. Katharina Langenbruck\, Schulstraße 2\, 85084 Langenbr
 uck Reichertshofen
END:VEVENT
END:VCALENDAR
