BEGIN:VCALENDAR
VERSION:2.0
PRODID:-//Sabre//Sabre VObject 4.5.8//EN
CALSCALE:GREGORIAN
BEGIN:VEVENT
UID:sabre-vobject-77350723-65a2-47a1-996d-e39eeb4884cc
DTSTAMP:20260422T114928Z
SUMMARY:Andacht u. Messe in St. Kastulus entfällt wg. Maiandacht
DESCRIPTION:https://pg-reichertshofen-langenbruck.de/andacht-u-messe-in-st-
 kastulus-entfaellt-wg-maiandacht_id44710
DTSTART;TZID=Europe/Berlin:20260501T173000
DURATION:PT30M
LOCATION:Wallfahrtskirche St. Kastulus\, Schulstraße 2\, 85084 St. Kastl b
 ei Reichertshofen
END:VEVENT
END:VCALENDAR
