BEGIN:VCALENDAR
VERSION:2.0
PRODID:-//Sabre//Sabre VObject 4.5.8//EN
CALSCALE:GREGORIAN
BEGIN:VEVENT
UID:sabre-vobject-7dd0eca0-60cd-412e-bb74-6d1d9df70599
DTSTAMP:20260424T123517Z
SUMMARY:Vorabendmesse
DESCRIPTION:https://pg-reichertshofen-langenbruck.de/vorabendmesse_id44709
DTSTART;TZID=Europe/Berlin:20260502T183000
DURATION:PT30M
LOCATION:Kirche St. Nikolaus Hög\, Pfarrer-Otto-Burger-Str. 1\, 85084 Hög
 -Reichertshofen
END:VEVENT
END:VCALENDAR
