BEGIN:VCALENDAR
VERSION:2.0
PRODID:-//Sabre//Sabre VObject 4.5.8//EN
CALSCALE:GREGORIAN
BEGIN:VEVENT
UID:sabre-vobject-5a41707e-93aa-4bc4-823e-11137e33d607
DTSTAMP:20260424T082512Z
SUMMARY:Rosenkranz
DESCRIPTION:https://pg-reichertshofen-langenbruck.de/rosenkranz_id44707
DTSTART;TZID=Europe/Berlin:20260428T173000
DURATION:PT30M
LOCATION:Kirche St. Nikolaus Hög\, Pfarrer-Otto-Burger-Str. 1\, 85084 Hög
 -Reichertshofen
END:VEVENT
END:VCALENDAR
