BEGIN:VCALENDAR
VERSION:2.0
PRODID:-//Sabre//Sabre VObject 4.5.8//EN
CALSCALE:GREGORIAN
BEGIN:VEVENT
UID:sabre-vobject-7b4d7f51-6718-4c2f-9255-2436bd55f5f6
DTSTAMP:20260422T113011Z
SUMMARY:Gottesdienst - Erstkommunion musik. Gestaltung d. Kirchenchor
DESCRIPTION:https://pg-reichertshofen-langenbruck.de/gottesdienst-erstkommu
 nion-musik-gestaltung-d-kirchenchor_id44705
DTSTART;TZID=Europe/Berlin:20260426T090000
DURATION:PT30M
LOCATION:Kirche St. Johannes Baptist Pörnbach\, Kirchplatz 6\, 85309 Pörn
 bach
END:VEVENT
END:VCALENDAR
