BEGIN:VCALENDAR
VERSION:2.0
PRODID:-//Sabre//Sabre VObject 4.5.8//EN
CALSCALE:GREGORIAN
BEGIN:VEVENT
UID:sabre-vobject-fcac4368-dcfb-4850-a4f7-d59f36bbf24b
DTSTAMP:20260422T115143Z
SUMMARY:Gottesdienst - Erstkommunion musik. gest. v. Chor Taktvoll
DESCRIPTION:https://pg-reichertshofen-langenbruck.de/gottesdienst-erstkommu
 nion-musik-gest-v-chor-taktvoll_id44704
DTSTART;TZID=Europe/Berlin:20260426T103000
DURATION:PT30M
LOCATION:Kirche St. Katharina Langenbruck\, Schulstraße 2\, 85084 Langenbr
 uck Reichertshofen
END:VEVENT
END:VCALENDAR
