BEGIN:VCALENDAR
VERSION:2.0
PRODID:-//Sabre//Sabre VObject 4.5.8//EN
CALSCALE:GREGORIAN
BEGIN:VEVENT
UID:sabre-vobject-c4147ecc-82df-4c2d-bd39-cc31f9d55ca1
DTSTAMP:20260424T082539Z
SUMMARY:Vorabendmesse
DESCRIPTION:https://pg-reichertshofen-langenbruck.de/vorabendmesse_id44702
DTSTART;TZID=Europe/Berlin:20260425T183000
DURATION:PT30M
LOCATION:Kirche St. Margaretha Reichertshofen\, Marktstraße 5\, 85084 Reic
 hertshofen
END:VEVENT
END:VCALENDAR
