BEGIN:VCALENDAR
VERSION:2.0
PRODID:-//Sabre//Sabre VObject 4.5.8//EN
CALSCALE:GREGORIAN
BEGIN:VEVENT
UID:sabre-vobject-2d9d2cea-d6b7-4980-8b32-81a0be2670fd
DTSTAMP:20260422T114806Z
SUMMARY:Rosenkranz und Beichtgelegenheit
DESCRIPTION:https://pg-reichertshofen-langenbruck.de/rosenkranz-und-beichtg
 elegenheit_id44701
DTSTART;TZID=Europe/Berlin:20260425T180000
DURATION:PT30M
LOCATION:Kirche St. Margaretha Reichertshofen\, Marktstraße 5\, 85084 Reic
 hertshofen
END:VEVENT
END:VCALENDAR
